BEGIN:VCALENDAR
VERSION:2.0
PRODID:-//Caloundra RSL - ECPv5.3.2.1//NONSGML v1.0//EN
CALSCALE:GREGORIAN
METHOD:PUBLISH
X-WR-CALNAME:Caloundra RSL
X-ORIGINAL-URL:https://www.caloundrarsl.com.au
X-WR-CALDESC:Events for Caloundra RSL
BEGIN:VTIMEZONE
TZID:Australia/Brisbane
BEGIN:STANDARD
TZOFFSETFROM:+1000
TZOFFSETTO:+1000
TZNAME:AEST
DTSTART:20210101T000000
END:STANDARD
END:VTIMEZONE
BEGIN:VEVENT
DTSTART;TZID=Australia/Brisbane:20210312T200000
DTEND;TZID=Australia/Brisbane:20210312T230000
DTSTAMP:20210227T165248
CREATED:20210218T233339Z
LAST-MODIFIED:20210219T004223Z
UID:12410-1615579200-1615590000@www.caloundrarsl.com.au
SUMMARY:Malia Stirling
DESCRIPTION:THIS  FRIDAY!\n\n\nWe have the wonderful Malia Stirling playing from 8:00 pm
URL:https://www.caloundrarsl.com.au/event/malia-stirling/
CATEGORIES:Live Music
ATTACH;FMTTYPE=image/png:https://www.caloundrarsl.com.au/wp-content/uploads/2021/02/Brightsign_MarliaStirling.png
END:VEVENT
END:VCALENDAR