BEGIN:VCALENDAR
VERSION:2.0
PRODID:-//Caloundra RSL - ECPv5.3.2.1//NONSGML v1.0//EN
CALSCALE:GREGORIAN
METHOD:PUBLISH
X-WR-CALNAME:Caloundra RSL
X-ORIGINAL-URL:https://www.caloundrarsl.com.au
X-WR-CALDESC:Events for Caloundra RSL
BEGIN:VTIMEZONE
TZID:Australia/Brisbane
BEGIN:STANDARD
TZOFFSETFROM:+1000
TZOFFSETTO:+1000
TZNAME:AEST
DTSTART:20210101T000000
END:STANDARD
END:VTIMEZONE
BEGIN:VEVENT
DTSTART;TZID=Australia/Brisbane:20210320T200000
DTEND;TZID=Australia/Brisbane:20210320T230000
DTSTAMP:20210227T165820
CREATED:20201204T022605Z
LAST-MODIFIED:20210219T002447Z
UID:11977-1616270400-1616281200@www.caloundrarsl.com.au
SUMMARY:Ricky The Rockstar
DESCRIPTION:Ricky the Rockstar is south east Queensland’s best known solo musician. Utilizing acoustic guitars\, stomp box and a velvet smooth voice.\nsometimes referred to as the Human Juke box. Ricky the Rockstar has been a Sunshine coast favourite for the past 18 years\, playing everything from cafes and restaurants to pubs and bars and the largest clubs in the region. I’ve also had the opportunity to support many of the world’s finest acts including Canned Heat\, Diesel\, mental as Anything\, Kate Ceberano\, Ted Mulry Gang\, the Radiators and Psuedo echo to name a few. \nCatch Ricky Live and Free tonight from 8 pm.
URL:https://www.caloundrarsl.com.au/event/ricky-the-rockstar-2/
CATEGORIES:Live Music
ATTACH;FMTTYPE=image/png:https://www.caloundrarsl.com.au/wp-content/uploads/2020/12/Brightsign_RickytheRockstar.png
END:VEVENT
END:VCALENDAR