BEGIN:VCALENDAR
VERSION:2.0
PRODID:-//Caloundra RSL - ECPv5.3.2.1//NONSGML v1.0//EN
CALSCALE:GREGORIAN
METHOD:PUBLISH
X-WR-CALNAME:Caloundra RSL
X-ORIGINAL-URL:https://www.caloundrarsl.com.au
X-WR-CALDESC:Events for Caloundra RSL
BEGIN:VTIMEZONE
TZID:Australia/Brisbane
BEGIN:STANDARD
TZOFFSETFROM:+1000
TZOFFSETTO:+1000
TZNAME:AEST
DTSTART:20210101T000000
END:STANDARD
END:VTIMEZONE
BEGIN:VEVENT
DTSTART;TZID=Australia/Brisbane:20210313T100000
DTEND;TZID=Australia/Brisbane:20210313T123000
DTSTAMP:20210227T165405
CREATED:20210218T231507Z
LAST-MODIFIED:20210218T231507Z
UID:12398-1615629600-1615638600@www.caloundrarsl.com.au
SUMMARY:SATURDAY SUPER RAFFLES
DESCRIPTION:$500 worth of meat trays + 2 Bottles of Spirits + CASH CARDS.\nPurchase your tickets from 10 am – 12.15 pm with draws taking place from 12.30 pm.
URL:https://www.caloundrarsl.com.au/event/saturday-super-raffles-5/
CATEGORIES:Members Draw,raffles
ATTACH;FMTTYPE=image/jpeg:https://www.caloundrarsl.com.au/wp-content/uploads/2021/02/raffles-brightsigns3-scaled.jpg
END:VEVENT
END:VCALENDAR