BEGIN:VCALENDAR
VERSION:2.0
PRODID:-//Caloundra RSL - ECPv5.3.2.1//NONSGML v1.0//EN
CALSCALE:GREGORIAN
METHOD:PUBLISH
X-WR-CALNAME:Caloundra RSL
X-ORIGINAL-URL:https://www.caloundrarsl.com.au
X-WR-CALDESC:Events for Caloundra RSL
BEGIN:VTIMEZONE
TZID:Australia/Brisbane
BEGIN:STANDARD
TZOFFSETFROM:+1000
TZOFFSETTO:+1000
TZNAME:AEST
DTSTART:20210101T000000
END:STANDARD
END:VTIMEZONE
BEGIN:VEVENT
DTSTART;TZID=Australia/Brisbane:20210331T190000
DTEND;TZID=Australia/Brisbane:20210331T220000
DTSTAMP:20210225T031229
CREATED:20210219T005727Z
LAST-MODIFIED:20210219T055135Z
UID:12433-1617217200-1617228000@www.caloundrarsl.com.au
SUMMARY:Country Music Wednesday Presents - Hillbilly Goats
DESCRIPTION:About The Hillbilly Goats\n\n\n\n\n\n“…the Hillbilly Goats exhibit genuine passion and no lack of expertise or energy in their mission to present a taste of old-time Appalachian folk to Australian audiences….driving fiddle and plonking banjo in tandem provide more conventional impetus. Elsewhere\, double bass and harmonica in conjunction with a variety of percussive devices (clogging\, washboard\, bones and jew’s harp) help maintain momentum. Tight four-part harmony singing\, with alternating male and female emphasis\, adorns most tracks.”     – Tony Hillier\, The AUSTRALIAN – Aug ‘13\n\n\nKick yer shoes off\, put yer hoe-down & hang on to yer britches!\n2020 Winners – Golden Fiddle Award\n2020 Golden Guitar Finalists for “Bleed Me Dry” – Bluegrass Recording \n  2019 Golden Guitar Finalists for “Gypsy Girl” – Bluegrass Recording\n2017 Golden Guitar Finalists for “Cumberland Gap” – Bluegrass Recording \n  2016 Golden Guitar Finalists for “Rabbit in a Log” – Bluegrass Recording 
URL:https://www.caloundrarsl.com.au/event/country-music-wednesday-presents-hillbilly-goats/
CATEGORIES:Live Music
ATTACH;FMTTYPE=image/png:https://www.caloundrarsl.com.au/wp-content/uploads/2021/02/Brightsign_HillBillyGoats-1.png
END:VEVENT
BEGIN:VEVENT
DTSTART;TZID=Australia/Brisbane:20210313T200000
DTEND;TZID=Australia/Brisbane:20210313T230000
DTSTAMP:20210225T031229
CREATED:20210219T004452Z
LAST-MODIFIED:20210219T004452Z
UID:12430-1615665600-1615676400@www.caloundrarsl.com.au
SUMMARY:Greg  McInnes
DESCRIPTION:Greg McInnes is a singer-songwriter & dynamic acoustic rock guitarist with over two decades playing experience in the music industry. Greg plays original music plus a wide variety of covers highlighting his own authentic style – from classic rock to blues and present day hits. His performances are filled with groovy rhythms\, carefully crafted lead solos and expressive heart vocals. He has written several original ballads and blues-style songs with a Paul Kelly\, Jack Johnson and Pete Murray feel.
URL:https://www.caloundrarsl.com.au/event/greg-mcinnes-2/
CATEGORIES:Live Music
ATTACH;FMTTYPE=image/png:https://www.caloundrarsl.com.au/wp-content/uploads/2021/02/Brightsign_GregMcInnes-1.png
END:VEVENT
BEGIN:VEVENT
DTSTART;TZID=Australia/Brisbane:20210327T200000
DTEND;TZID=Australia/Brisbane:20210327T220000
DTSTAMP:20210225T031229
CREATED:20210219T003607Z
LAST-MODIFIED:20210219T003607Z
UID:12425-1616875200-1616882400@www.caloundrarsl.com.au
SUMMARY:Craig  Madden
DESCRIPTION:Craig Madden is songwriter and performing musician based on the Sunshine Coast Queensland. Verging styles from Blues\, Soul\, funk and Folk. \nCatch Craig tonight from 8 pm – 11 pm.
URL:https://www.caloundrarsl.com.au/event/craig-madden-2/
CATEGORIES:Live Music
ATTACH;FMTTYPE=image/png:https://www.caloundrarsl.com.au/wp-content/uploads/2021/02/Brightsign_CraigMadden.png
END:VEVENT
BEGIN:VEVENT
DTSTART;TZID=Australia/Brisbane:20210324T190000
DTEND;TZID=Australia/Brisbane:20210324T220000
DTSTAMP:20210225T031229
CREATED:20210219T002950Z
LAST-MODIFIED:20210219T002950Z
UID:12420-1616612400-1616623200@www.caloundrarsl.com.au
SUMMARY:Beyond Sippy Creek
DESCRIPTION:An Aussie country rock band from the Sunshine Coast\, QLD\, with a bright future in the Australian Country Music Scene.
URL:https://www.caloundrarsl.com.au/event/beyond-sippy-creek/
CATEGORIES:Live Music
ATTACH;FMTTYPE=image/png:https://www.caloundrarsl.com.au/wp-content/uploads/2021/02/Brightsign_BeyondSippyCreek.png
END:VEVENT
BEGIN:VEVENT
DTSTART;TZID=Australia/Brisbane:20210317T190000
DTEND;TZID=Australia/Brisbane:20210317T220000
DTSTAMP:20210225T031229
CREATED:20210219T002300Z
LAST-MODIFIED:20210219T002300Z
UID:12416-1616007600-1616018400@www.caloundrarsl.com.au
SUMMARY:Will Day Duo
DESCRIPTION:Gritty. Grounded. Heartfelt. A standout performer. These are words that describe rising Australian country singer-\nsongwriter\, Will Day. Surviving a decade as a full-time country artist\, providing for his family by performing up to 250 gigs \neach year\, is an achievement that Will Day is proud of. Growing up in the small rural town of Goondiwindi and sewing his\nmusical roots there has instilled a humble\, dedicated work ethic and one that is destined to continue throughout his\nmusical career.\nAustralia’s eastern seaboard has hosted the now Brisbane-based artist for much of the last few years as his star continues\nto rise in the country music scene. This modern-day performer has enjoyed an exciting start to his career and has achieved\na swag of impressive milestones. His talent and hard work ethic have led him to tour extensively with country music artist\nCol Finley.\n“I rate Will Day as one of Australia’s most energetic live shows in today’s music industry. He is going to really stamp his\nmark on this industry with his honest\, edgy and just down home country”\, Country artist Col Finley.\nWill grew up listening to some of the great musical influences of our time on family road trips where his parents would\nplay the likes of James Taylor\, The Eagles\, Paul Kelly and Cat Stevens. Will fondly recalls ‘Father and Son’ as the first song he\nperformed in public when he was 14 in a local talent quest. A pivotal turning point was discovering Keith Urban in his\nteenage years and it was then that Will decided that country music was where he needed to be. Other country influences\nfollowed including Allan Jackson and Garth Brooks before discovering the rich depth of talent we have here in Australia\,\nartists such as Travis Collins. It’s from these artists\, Will made country music his own.\nWill’s early career offered releases such as Seasons\, the award winning first single off his debut EP released late 2016\,\nwhich enjoyed time in the Top 10 on the iTunes chart.\nThe tide was turning in 2017 where Will toured internationally to New Zealand. This was followed by headlining the\nGoondiwindi B n S with record crowds and was a finalist in three categories for the Independent Country Music\nAssociation Awards for which he won the fan voted ‘Most Popular EP’. That same year also saw Will win the Male Rising\nStar Awards at the Southern Stars Independent Country Music Awards in Mildura\, Victoria.\nIn October 2017\, Will released his single ‘The Country Life’\, which reached the Top 10 on Australian Country Radio\, was\nrecorded and produced by Benji Pocock at Vibetone Studios and co-written with Troy Kemp\, Damien Baguley and Col\nFinley. The track came together in an hour after hearing the chorus idea from Damien Baguley and Troy Kemp and told the\ntale of dropping the city life for a weekend and getting out into the country.\nWill has been described by peers in the country music industry as one of the hardest working artists they know. 2018 alone\nsaw him travel some 50\,000kms touring regional NSW\, ACT along with North and Central QLD. A definite crowd favourite\ncan be put down to his vibrant\, energetic stage presence and willingness to give it his all every time he hits the stage. He\nhas opened for the likes of Morgan Evans\, Shannon Noll\, Icehouse\, Diesel\, The Whitlams\, Hoodoo Gurus\, The Baby\nAnimals\, The Black Sorrows\, Kingswood\, Col Finley and The Viper Creek Band while also appearing at some of Australia’s\nmost popular country music festivals\, including Tamworth Country Music Festival\, Groundwater Country Music Festival\nand Gympie Music Muster.\n2019 was a breakout year for Will\, where he enjoyed nine straight shows at Tamworth Country Music Festival\, entertaining\ncrowds at West Diggers. In March\, he released his next single ‘The Real World’ (co-written with Matt Scullion) which reached\nnumber 1 on Australian Country Radio. Will then went on to release the summer anthem track ‘Here to Party’ in October\nwhich reached #23 on the major Music Network Country Charts. Other highlights included performing at Groundwater\nCountry Music Festival and performing on the main stage at The Gympie Music Muster in the talent search Grand Final.\nWill commenced 2020 with a bang performing to capacity filled shows at ‘Late Nights’ at West Diggers at Tamworth\nCountry Music Festival along with a full media schedule before touring suddenly shut down when the Covid19 pandemic\nhit musicians hard.\nAfter spending a few months enjoying family life and in perfect
URL:https://www.caloundrarsl.com.au/event/will-day-duo/
CATEGORIES:Live Music
ATTACH;FMTTYPE=image/png:https://www.caloundrarsl.com.au/wp-content/uploads/2021/02/Brightsign_WillDayDuo.png
END:VEVENT
BEGIN:VEVENT
DTSTART;TZID=Australia/Brisbane:20210213T200000
DTEND;TZID=Australia/Brisbane:20210213T230000
DTSTAMP:20210225T031229
CREATED:20210218T233726Z
LAST-MODIFIED:20210218T233726Z
UID:12413-1613246400-1613257200@www.caloundrarsl.com.au
SUMMARY:Greg  McInnes
DESCRIPTION:Greg McInnes is a singer-songwriter & dynamic acoustic rock guitarist with over two decades playing experience in the music industry. Greg plays original music plus a wide variety of covers highlighting his own authentic style – from classic rock to blues and present day hits. His performances are filled with groovy rhythms\, carefully crafted lead solos and expressive heart vocals. He has written several original ballads and blues-style songs with a Paul Kelly\, Jack Johnson and Pete Murray feel.
URL:https://www.caloundrarsl.com.au/event/greg-mcinnes/
CATEGORIES:Live Music
ATTACH;FMTTYPE=image/png:https://www.caloundrarsl.com.au/wp-content/uploads/2021/02/Brightsign_GregMcInnes.png
END:VEVENT
BEGIN:VEVENT
DTSTART;TZID=Australia/Brisbane:20210312T200000
DTEND;TZID=Australia/Brisbane:20210312T230000
DTSTAMP:20210225T031229
CREATED:20210218T233339Z
LAST-MODIFIED:20210219T004223Z
UID:12410-1615579200-1615590000@www.caloundrarsl.com.au
SUMMARY:Malia Stirling
DESCRIPTION:THIS  FRIDAY!\n\n\nWe have the wonderful Malia Stirling playing from 8:00 pm
URL:https://www.caloundrarsl.com.au/event/malia-stirling/
CATEGORIES:Live Music
ATTACH;FMTTYPE=image/png:https://www.caloundrarsl.com.au/wp-content/uploads/2021/02/Brightsign_MarliaStirling.png
END:VEVENT
BEGIN:VEVENT
DTSTART;TZID=Australia/Brisbane:20210310T190000
DTEND;TZID=Australia/Brisbane:20210310T220000
DTSTAMP:20210225T031229
CREATED:20210218T232907Z
LAST-MODIFIED:20210218T233051Z
UID:12407-1615402800-1615413600@www.caloundrarsl.com.au
SUMMARY:Country Music Wednesday Presents - Mill St Shuffle
DESCRIPTION:Catch the Mill St Shuffle live and free tonight from 7 pm.
URL:https://www.caloundrarsl.com.au/event/country-music-wednesday-presents-mill-st-shuffle/
CATEGORIES:Live Music
ATTACH;FMTTYPE=image/png:https://www.caloundrarsl.com.au/wp-content/uploads/2021/02/Brightsign_MillStShuffle.png
END:VEVENT
BEGIN:VEVENT
DTSTART;TZID=Australia/Brisbane:20210305T200000
DTEND;TZID=Australia/Brisbane:20210305T230000
DTSTAMP:20210225T031229
CREATED:20210218T232216Z
LAST-MODIFIED:20210218T232216Z
UID:12404-1614974400-1614985200@www.caloundrarsl.com.au
SUMMARY:HARII BANDHU
DESCRIPTION:Catch HARII BANDHU live and free from 8 pm \n 
URL:https://www.caloundrarsl.com.au/event/harii-bandhu/
CATEGORIES:Live Music
ATTACH;FMTTYPE=image/png:https://www.caloundrarsl.com.au/wp-content/uploads/2020/11/Harii-bandhu.png
END:VEVENT
BEGIN:VEVENT
DTSTART;TZID=Australia/Brisbane:20210327T100000
DTEND;TZID=Australia/Brisbane:20210327T123000
DTSTAMP:20210225T031229
CREATED:20210218T231736Z
LAST-MODIFIED:20210218T231736Z
UID:12402-1616839200-1616848200@www.caloundrarsl.com.au
SUMMARY:SATURDAY SUPER RAFFLES
DESCRIPTION:$500 worth of meat trays + 2 Bottles of Spirits + CASH CARDS.\nPurchase your tickets from 10 am – 12.15 pm with draws taking place from 12.30 pm.
URL:https://www.caloundrarsl.com.au/event/saturday-super-raffles-7/
CATEGORIES:Members Draw,raffles
ATTACH;FMTTYPE=image/jpeg:https://www.caloundrarsl.com.au/wp-content/uploads/2021/02/raffles-brightsigns3-scaled.jpg
END:VEVENT
BEGIN:VEVENT
DTSTART;TZID=Australia/Brisbane:20210320T100000
DTEND;TZID=Australia/Brisbane:20210320T123000
DTSTAMP:20210225T031229
CREATED:20210218T231605Z
LAST-MODIFIED:20210218T231605Z
UID:12400-1616234400-1616243400@www.caloundrarsl.com.au
SUMMARY:SATURDAY SUPER RAFFLES
DESCRIPTION:$500 worth of meat trays + 2 Bottles of Spirits + CASH CARDS.\nPurchase your tickets from 10 am – 12.15 pm with draws taking place from 12.30 pm.
URL:https://www.caloundrarsl.com.au/event/saturday-super-raffles-6/
CATEGORIES:Members Draw,raffles
ATTACH;FMTTYPE=image/jpeg:https://www.caloundrarsl.com.au/wp-content/uploads/2021/02/raffles-brightsigns3-scaled.jpg
END:VEVENT
BEGIN:VEVENT
DTSTART;TZID=Australia/Brisbane:20210313T100000
DTEND;TZID=Australia/Brisbane:20210313T123000
DTSTAMP:20210225T031229
CREATED:20210218T231507Z
LAST-MODIFIED:20210218T231507Z
UID:12398-1615629600-1615638600@www.caloundrarsl.com.au
SUMMARY:SATURDAY SUPER RAFFLES
DESCRIPTION:$500 worth of meat trays + 2 Bottles of Spirits + CASH CARDS.\nPurchase your tickets from 10 am – 12.15 pm with draws taking place from 12.30 pm.
URL:https://www.caloundrarsl.com.au/event/saturday-super-raffles-5/
CATEGORIES:Members Draw,raffles
ATTACH;FMTTYPE=image/jpeg:https://www.caloundrarsl.com.au/wp-content/uploads/2021/02/raffles-brightsigns3-scaled.jpg
END:VEVENT
BEGIN:VEVENT
DTSTART;TZID=Australia/Brisbane:20210306T100000
DTEND;TZID=Australia/Brisbane:20210306T123000
DTSTAMP:20210225T031229
CREATED:20210218T231407Z
LAST-MODIFIED:20210218T231407Z
UID:12396-1615024800-1615033800@www.caloundrarsl.com.au
SUMMARY:SATURDAY SUPER RAFFLES
DESCRIPTION:$500 worth of meat trays + 2 Bottles of Spirits + CASH CARDS.\nPurchase your tickets from 10 am – 12.15 pm with draws taking place from 12.30 pm.
URL:https://www.caloundrarsl.com.au/event/saturday-super-raffles-4/
CATEGORIES:Members Draw,raffles
ATTACH;FMTTYPE=image/jpeg:https://www.caloundrarsl.com.au/wp-content/uploads/2021/02/raffles-brightsigns3-scaled.jpg
END:VEVENT
BEGIN:VEVENT
DTSTART;TZID=Australia/Brisbane:20210326T160000
DTEND;TZID=Australia/Brisbane:20210326T183000
DTSTAMP:20210225T031229
CREATED:20210218T231148Z
LAST-MODIFIED:20210218T231148Z
UID:12392-1616774400-1616783400@www.caloundrarsl.com.au
SUMMARY:FRIDAY MEGA RAFFLES
DESCRIPTION:FRIDAY NIGHT – MEAT RAFFLE\nWIN some meat for your BBQ this weekend. $500 WORTH OF MEAT TRAYS + 2 BOTTLES OF SPIRITS.\nPurchase your tickets from 4 pm – 6.15 pm with draws taking place from 6.30 pm.
URL:https://www.caloundrarsl.com.au/event/friday-mega-raffles-7/
CATEGORIES:Members Draw,raffles
ATTACH;FMTTYPE=image/jpeg:https://www.caloundrarsl.com.au/wp-content/uploads/2021/02/raffles-brightsigns2_resized.jpg
END:VEVENT
BEGIN:VEVENT
DTSTART;TZID=Australia/Brisbane:20210319T160000
DTEND;TZID=Australia/Brisbane:20210319T183000
DTSTAMP:20210225T031229
CREATED:20210218T231104Z
LAST-MODIFIED:20210218T231104Z
UID:12393-1616169600-1616178600@www.caloundrarsl.com.au
SUMMARY:FRIDAY MEGA RAFFLES
DESCRIPTION:FRIDAY NIGHT – MEAT RAFFLE\nWIN some meat for your BBQ this weekend. $500 WORTH OF MEAT TRAYS + 2 BOTTLES OF SPIRITS.\nPurchase your tickets from 4 pm – 6.15 pm with draws taking place from 6.30 pm.
URL:https://www.caloundrarsl.com.au/event/friday-mega-raffles-6/
CATEGORIES:Members Draw,raffles
ATTACH;FMTTYPE=image/jpeg:https://www.caloundrarsl.com.au/wp-content/uploads/2021/02/raffles-brightsigns2_resized.jpg
END:VEVENT
BEGIN:VEVENT
DTSTART;TZID=Australia/Brisbane:20210312T160000
DTEND;TZID=Australia/Brisbane:20210312T183000
DTSTAMP:20210225T031229
CREATED:20210218T230946Z
LAST-MODIFIED:20210218T230946Z
UID:12390-1615564800-1615573800@www.caloundrarsl.com.au
SUMMARY:FRIDAY MEGA RAFFLES
DESCRIPTION:FRIDAY NIGHT – MEAT RAFFLE\nWIN some meat for your BBQ this weekend. $500 WORTH OF MEAT TRAYS + 2 BOTTLES OF SPIRITS.\nPurchase your tickets from 4 pm – 6.15 pm with draws taking place from 6.30 pm.
URL:https://www.caloundrarsl.com.au/event/friday-mega-raffles-5/
CATEGORIES:Members Draw,raffles
ATTACH;FMTTYPE=image/jpeg:https://www.caloundrarsl.com.au/wp-content/uploads/2021/02/raffles-brightsigns2_resized.jpg
END:VEVENT
BEGIN:VEVENT
DTSTART;TZID=Australia/Brisbane:20210305T160000
DTEND;TZID=Australia/Brisbane:20210305T183000
DTSTAMP:20210225T031229
CREATED:20210218T230838Z
LAST-MODIFIED:20210218T230838Z
UID:12388-1614960000-1614969000@www.caloundrarsl.com.au
SUMMARY:FRIDAY MEGA RAFFLES
DESCRIPTION:FRIDAY NIGHT – MEAT RAFFLE\nWIN some meat for your BBQ this weekend. $500 WORTH OF MEAT TRAYS + 2 BOTTLES OF SPIRITS.\nPurchase your tickets from 4 pm – 6.15 pm with draws taking place from 6.30 pm.
URL:https://www.caloundrarsl.com.au/event/friday-mega-raffles-4/
CATEGORIES:Members Draw,raffles
ATTACH;FMTTYPE=image/jpeg:https://www.caloundrarsl.com.au/wp-content/uploads/2021/02/raffles-brightsigns2_resized.jpg
END:VEVENT
BEGIN:VEVENT
DTSTART;TZID=Australia/Brisbane:20210227T163000
DTEND;TZID=Australia/Brisbane:20210227T210000
DTSTAMP:20210225T031229
CREATED:20210218T225448Z
LAST-MODIFIED:20210218T225448Z
UID:12382-1614443400-1614459600@www.caloundrarsl.com.au
SUMMARY:{Boxing} Parker v Fa - Heavyweight Bout
DESCRIPTION:Boxing\nParker v Fa\nHeavyweight Bout\nSaturday 27 February\, 4:30 pm\nLIVE on MAIN EVENT st this venue. \nPool Tables Available and Live Music from 8 pm till 2 am. \nCosmic Cave will be open for the duration of this fight\, bring the family and enjoy our hospitality. \nJoseph Parker vs. Junior Fa is an upcoming heavyweight professional boxing match contested between former WBO champion Joseph Parker and WBO interim Oriental champion Junior Fa. The bout is scheduled to take place on 27 February 2021\, at the Spark Arena in Auckland\, New Zealand.  The event is co-promoted by David Higgins of Duco Events\, Eddie Hearn of Matchroom Boxing and Lou DiBella of DiBella Entertainment\, and is considered a history-making moment and New Zealand’s next “Fight of the Century”.
URL:https://www.caloundrarsl.com.au/event/boxing-parker-v-fa-heavyweight-bout/
CATEGORIES:Dining,Live Music,UFC
ATTACH;FMTTYPE=image/png:https://www.caloundrarsl.com.au/wp-content/uploads/2021/02/Parker_vs_Fa_16x9.png
END:VEVENT
BEGIN:VEVENT
DTSTART;TZID=Australia/Brisbane:20210330T183000
DTEND;TZID=Australia/Brisbane:20210330T210000
DTSTAMP:20210225T031229
CREATED:20210218T003359Z
LAST-MODIFIED:20210218T003359Z
UID:12377-1617129000-1617138000@www.caloundrarsl.com.au
SUMMARY:Trivia Tuesday
DESCRIPTION:Trivia Tuesday  \n6.30 pm – 9 pm  \nCaloundra RSL Main Stage Area \nA Fun and Challenging Quiz \nAwesome Prizes\nFree To Play\nFamilies Welcome\nTeams & Singles\nFood Special \n$500 Cash jackpot \n 
URL:https://www.caloundrarsl.com.au/event/trivia-tuesday-5/
CATEGORIES:Members Draw,Pokies,Trivia
ATTACH;FMTTYPE=image/jpeg:https://www.caloundrarsl.com.au/wp-content/uploads/2021/02/Trivia-Brightsign-no-date--scaled.jpg
END:VEVENT
BEGIN:VEVENT
DTSTART;TZID=Australia/Brisbane:20210323T183000
DTEND;TZID=Australia/Brisbane:20210323T210000
DTSTAMP:20210225T031229
CREATED:20210218T003307Z
LAST-MODIFIED:20210218T003307Z
UID:12375-1616524200-1616533200@www.caloundrarsl.com.au
SUMMARY:Trivia Tuesday
DESCRIPTION:Trivia Tuesday  \n6.30 pm – 9 pm  \nCaloundra RSL Main Stage Area \nA Fun and Challenging Quiz \nAwesome Prizes\nFree To Play\nFamilies Welcome\nTeams & Singles\nFood Special \n$500 Cash jackpot \n 
URL:https://www.caloundrarsl.com.au/event/trivia-tuesday-4/
CATEGORIES:Members Draw,Pokies,Trivia
ATTACH;FMTTYPE=image/jpeg:https://www.caloundrarsl.com.au/wp-content/uploads/2021/02/Trivia-Brightsign-no-date--scaled.jpg
END:VEVENT
BEGIN:VEVENT
DTSTART;TZID=Australia/Brisbane:20210316T183000
DTEND;TZID=Australia/Brisbane:20210316T210000
DTSTAMP:20210225T031229
CREATED:20210218T003221Z
LAST-MODIFIED:20210218T003221Z
UID:12373-1615919400-1615928400@www.caloundrarsl.com.au
SUMMARY:Trivia Tuesday
DESCRIPTION:Trivia Tuesday  \n6.30 pm – 9 pm  \nCaloundra RSL Main Stage Area \nA Fun and Challenging Quiz \nAwesome Prizes\nFree To Play\nFamilies Welcome\nTeams & Singles\nFood Special \n$500 Cash jackpot \n 
URL:https://www.caloundrarsl.com.au/event/trivia-tuesday-3/
CATEGORIES:Members Draw,Pokies,Trivia
ATTACH;FMTTYPE=image/jpeg:https://www.caloundrarsl.com.au/wp-content/uploads/2021/02/Trivia-Brightsign-no-date--scaled.jpg
END:VEVENT
BEGIN:VEVENT
DTSTART;TZID=Australia/Brisbane:20210309T183000
DTEND;TZID=Australia/Brisbane:20210309T210000
DTSTAMP:20210225T031229
CREATED:20210218T003131Z
LAST-MODIFIED:20210218T003131Z
UID:12370-1615314600-1615323600@www.caloundrarsl.com.au
SUMMARY:Trivia Tuesday
DESCRIPTION:Trivia Tuesday  \n6.30 pm – 9 pm  \nCaloundra RSL Main Stage Area \nA Fun and Challenging Quiz \nAwesome Prizes\nFree To Play\nFamilies Welcome\nTeams & Singles\nFood Special \n$500 Cash jackpot \n 
URL:https://www.caloundrarsl.com.au/event/trivia-tuesday-2/
CATEGORIES:Members Draw,Pokies,Trivia
ATTACH;FMTTYPE=image/jpeg:https://www.caloundrarsl.com.au/wp-content/uploads/2021/02/Trivia-Brightsign-no-date--scaled.jpg
END:VEVENT
BEGIN:VEVENT
DTSTART;TZID=Australia/Brisbane:20210302T183000
DTEND;TZID=Australia/Brisbane:20210302T210000
DTSTAMP:20210225T031229
CREATED:20210218T002951Z
LAST-MODIFIED:20210218T002951Z
UID:12367-1614709800-1614718800@www.caloundrarsl.com.au
SUMMARY:Trivia Tuesday
DESCRIPTION:Trivia Tuesday  \n6.30 pm – 9 pm  \nCaloundra RSL Main Stage Area \nA Fun and Challenging Quiz \nAwesome Prizes\nFree To Play\nFamilies Welcome\nTeams & Singles\nFood Special \n$500 Cash jackpot \n 
URL:https://www.caloundrarsl.com.au/event/trivia-tuesday/
CATEGORIES:Members Draw,Pokies,Trivia
ATTACH;FMTTYPE=image/jpeg:https://www.caloundrarsl.com.au/wp-content/uploads/2021/02/Trivia-Brightsign-scaled.jpg
END:VEVENT
BEGIN:VEVENT
DTSTART;TZID=Australia/Brisbane:20210319T200000
DTEND;TZID=Australia/Brisbane:20210319T230000
DTSTAMP:20210225T031229
CREATED:20210217T043354Z
LAST-MODIFIED:20210217T043354Z
UID:12360-1616184000-1616194800@www.caloundrarsl.com.au
SUMMARY:Living In The 70's
DESCRIPTION:Living In The 70’s  \n🎵 Friday\, 19th March\n🎵 8 pm\n🎵 Caloundra RSL\n🎵 Live and FREE\n🎵 Come early and have dinner\, this show is also a Big Hit \nCaloundra RSL welcomes back “Living in the Seventies”. A show packed full to the brim with Classic Rock and Groove hits from artists such as The Doors\, Fleetwood Mac\, Rod Stewart\, Skyhooks\, Supertramp\, Ted Mulry\, The Stones\, Beatles\, Blues Brothers and many more. \nNot to be missed!!
URL:https://www.caloundrarsl.com.au/event/living-in-the-70s/
ATTACH;FMTTYPE=image/jpeg:https://www.caloundrarsl.com.au/wp-content/uploads/2021/02/Living-in-the-70s-brightsign-scaled.jpg
END:VEVENT
BEGIN:VEVENT
DTSTART;TZID=Australia/Brisbane:20210220T100000
DTEND;TZID=Australia/Brisbane:20210220T123000
DTSTAMP:20210225T031229
CREATED:20210216T011449Z
LAST-MODIFIED:20210216T011449Z
UID:12358-1613815200-1613824200@www.caloundrarsl.com.au
SUMMARY:SATURDAY SUPER RAFFLES
DESCRIPTION:$500 worth of meat trays + 2 Bottles of Spirits + CASH CARDS.\nPurchase your tickets from 10 am – 12.15 pm with draws taking place from 12.30 pm.
URL:https://www.caloundrarsl.com.au/event/saturday-super-raffles-3/
CATEGORIES:Members Draw,raffles
ATTACH;FMTTYPE=image/jpeg:https://www.caloundrarsl.com.au/wp-content/uploads/2021/02/raffles-brightsigns3-scaled.jpg
END:VEVENT
BEGIN:VEVENT
DTSTART;TZID=Australia/Brisbane:20210220T230000
DTEND;TZID=Australia/Brisbane:20210221T020000
DTSTAMP:20210225T031229
CREATED:20210216T011214Z
LAST-MODIFIED:20210216T011214Z
UID:12355-1613862000-1613872800@www.caloundrarsl.com.au
SUMMARY:Dj Funky Azz
DESCRIPTION:Dropping beats on the main stage from 11 pm till 2 am.
URL:https://www.caloundrarsl.com.au/event/dj-funky-azz/
CATEGORIES:Live Music,Pokies
ATTACH;FMTTYPE=image/jpeg:https://www.caloundrarsl.com.au/wp-content/uploads/2021/02/funky-azz2-scaled.jpg
END:VEVENT
BEGIN:VEVENT
DTSTART;TZID=Australia/Brisbane:20210317T110000
DTEND;TZID=Australia/Brisbane:20210317T140000
DTSTAMP:20210225T031229
CREATED:20210215T042330Z
LAST-MODIFIED:20210215T042330Z
UID:12349-1615978800-1615989600@www.caloundrarsl.com.au
SUMMARY:St Patrick's Day 2021
DESCRIPTION:St Patrick’s Day 2021 \nThere’ll be plenty of good craic at this year’s special “St Patrick’s Day” event featuring the super talented and sought after 5 piece Band “Tis Irish”. \nWhether you are Irish Or not\, come dressed in white and green for your chance to win a great prize. \nEnjoy an Irish cocktail\, Irish Whiskey\, a few Pints of Guinness and one of our Chef’s Irish themed Meals. \n\nDate: Wednesday 17th March\n5 Piece Irish Band: Tis Irish will be live and free from 11 am – 2 pm (Come early and get a good seat)\nGuinness Promotion\nEnjoy an Irish Whisky\nIrish Themed Food Specials\nIrish Cocktail of the day (The Irish Mule)\nBest dressed prizes\nGreen Beer\n\nSpread some Irish cheer and let everyone know that on Wednesday 17th of March this year\, there will be no bigger and better place to be than the Caloundra RSL to celebrate St Patrick’s Day. \nNo stage bookings \nBook your table now for lunch in our Viva restaurant by calling (07) 54385800 or book online https://www.caloundrarsl.com.au/viva-family-restaurant-caloundra-open-late/
URL:https://www.caloundrarsl.com.au/event/st-patricks-day-2021/
CATEGORIES:Dining,Live Music
ATTACH;FMTTYPE=image/jpeg:https://www.caloundrarsl.com.au/wp-content/uploads/2021/02/Brightsign_376x210mm_StPatricksDay-scaled.jpg
END:VEVENT
BEGIN:VEVENT
DTSTART;TZID=Australia/Brisbane:20210303T190000
DTEND;TZID=Australia/Brisbane:20210303T220000
DTSTAMP:20210225T031229
CREATED:20210212T032103Z
LAST-MODIFIED:20210218T230204Z
UID:12337-1614798000-1614808800@www.caloundrarsl.com.au
SUMMARY:Country Music Wednesday Presents - Colt Seavers Band
DESCRIPTION:Country Music Wednesday’s Featuring  the “Colt Seavers Band” \nColt Seavers Band are set for a huge future in the entertainment industry after wowing the crowds at Tamworth Country Music Festival in 2018 and 2019. With standing ovations\, return crowds\, 12 shows\, signing autographs\, photo opportunities\, radio interviews with KIX COUNTRY\, 106.9FM plus raving reviews all over their social media sites – you don’t want to miss this train that is boarding. It’s going to be one hell of a ride. With a background in film and television stunt work\, nothing is off limits for the Frontman\, including lighting up his arms or maybe even setting fire to the Drum kit. “We are a fun band\, but serious about entertaining people\,” Seavers said. “I think a lot of people have never seen a Double Bass before but\, most of our crowd are very young and it’s brought back the Bluegrass and Hillbilly music and we play anything – Countrybilly\, Rockabilly and Bluesabilly”. \nCheck them out here https://www.youtube.com/watch?v=J5ael0Qxg5g \n  \n 
URL:https://www.caloundrarsl.com.au/event/colt-seavers-band/
CATEGORIES:Live Music
ATTACH;FMTTYPE=image/png:https://www.caloundrarsl.com.au/wp-content/uploads/2021/02/Brightsign_ColtSeaversBand.png
END:VEVENT
BEGIN:VEVENT
DTSTART;TZID=Australia/Brisbane:20210219T230000
DTEND;TZID=Australia/Brisbane:20210220T020000
DTSTAMP:20210225T031229
CREATED:20210210T044225Z
LAST-MODIFIED:20210216T010330Z
UID:12318-1613775600-1613786400@www.caloundrarsl.com.au
SUMMARY:DJ SAX
DESCRIPTION:Dropping beats on the main stage from 11 pm till 2 am.
URL:https://www.caloundrarsl.com.au/event/dj-sax-2/
CATEGORIES:Live Music
ATTACH;FMTTYPE=image/jpeg:https://www.caloundrarsl.com.au/wp-content/uploads/2021/02/DJ-SAX-BRIGHTSIGN--scaled.jpg
END:VEVENT
BEGIN:VEVENT
DTSTART;TZID=Australia/Brisbane:20210212T230000
DTEND;TZID=Australia/Brisbane:20210213T020000
DTSTAMP:20210225T031229
CREATED:20210210T044043Z
LAST-MODIFIED:20210210T044043Z
UID:12315-1613170800-1613181600@www.caloundrarsl.com.au
SUMMARY:DJ SAX
DESCRIPTION:Dropping beats on the main stage from 11 pm till 2 am.
URL:https://www.caloundrarsl.com.au/event/dj-sax/
CATEGORIES:Live Music
ATTACH;FMTTYPE=image/jpeg:https://www.caloundrarsl.com.au/wp-content/uploads/2021/02/DJ-SAX-BRIGHTSIGN--scaled.jpg
END:VEVENT
END:VCALENDAR