BEGIN:VCALENDAR
VERSION:2.0
PRODID:-//Caloundra RSL - ECPv5.3.2.1//NONSGML v1.0//EN
CALSCALE:GREGORIAN
METHOD:PUBLISH
X-WR-CALNAME:Caloundra RSL
X-ORIGINAL-URL:https://www.caloundrarsl.com.au
X-WR-CALDESC:Events for Caloundra RSL
BEGIN:VTIMEZONE
TZID:Australia/Brisbane
BEGIN:STANDARD
TZOFFSETFROM:+1000
TZOFFSETTO:+1000
TZNAME:AEST
DTSTART:20200101T000000
END:STANDARD
END:VTIMEZONE
BEGIN:VEVENT
DTSTART;TZID=Australia/Brisbane:20210227T163000
DTEND;TZID=Australia/Brisbane:20210227T210000
DTSTAMP:20210227T170228
CREATED:20210218T225448Z
LAST-MODIFIED:20210218T225448Z
UID:12382-1614443400-1614459600@www.caloundrarsl.com.au
SUMMARY:{Boxing} Parker v Fa - Heavyweight Bout
DESCRIPTION:Boxing\nParker v Fa\nHeavyweight Bout\nSaturday 27 February\, 4:30 pm\nLIVE on MAIN EVENT st this venue. \nPool Tables Available and Live Music from 8 pm till 2 am. \nCosmic Cave will be open for the duration of this fight\, bring the family and enjoy our hospitality. \nJoseph Parker vs. Junior Fa is an upcoming heavyweight professional boxing match contested between former WBO champion Joseph Parker and WBO interim Oriental champion Junior Fa. The bout is scheduled to take place on 27 February 2021\, at the Spark Arena in Auckland\, New Zealand.  The event is co-promoted by David Higgins of Duco Events\, Eddie Hearn of Matchroom Boxing and Lou DiBella of DiBella Entertainment\, and is considered a history-making moment and New Zealand’s next “Fight of the Century”.
URL:https://www.caloundrarsl.com.au/event/boxing-parker-v-fa-heavyweight-bout/
CATEGORIES:Dining,Live Music,UFC
ATTACH;FMTTYPE=image/png:https://www.caloundrarsl.com.au/wp-content/uploads/2021/02/Parker_vs_Fa_16x9.png
END:VEVENT
BEGIN:VEVENT
DTSTART;TZID=Australia/Brisbane:20210317T110000
DTEND;TZID=Australia/Brisbane:20210317T140000
DTSTAMP:20210227T170228
CREATED:20210215T042330Z
LAST-MODIFIED:20210215T042330Z
UID:12349-1615978800-1615989600@www.caloundrarsl.com.au
SUMMARY:St Patrick's Day 2021
DESCRIPTION:St Patrick’s Day 2021 \nThere’ll be plenty of good craic at this year’s special “St Patrick’s Day” event featuring the super talented and sought after 5 piece Band “Tis Irish”. \nWhether you are Irish Or not\, come dressed in white and green for your chance to win a great prize. \nEnjoy an Irish cocktail\, Irish Whiskey\, a few Pints of Guinness and one of our Chef’s Irish themed Meals. \n\nDate: Wednesday 17th March\n5 Piece Irish Band: Tis Irish will be live and free from 11 am – 2 pm (Come early and get a good seat)\nGuinness Promotion\nEnjoy an Irish Whisky\nIrish Themed Food Specials\nIrish Cocktail of the day (The Irish Mule)\nBest dressed prizes\nGreen Beer\n\nSpread some Irish cheer and let everyone know that on Wednesday 17th of March this year\, there will be no bigger and better place to be than the Caloundra RSL to celebrate St Patrick’s Day. \nNo stage bookings \nBook your table now for lunch in our Viva restaurant by calling (07) 54385800 or book online https://www.caloundrarsl.com.au/viva-family-restaurant-caloundra-open-late/
URL:https://www.caloundrarsl.com.au/event/st-patricks-day-2021/
CATEGORIES:Dining,Live Music
ATTACH;FMTTYPE=image/jpeg:https://www.caloundrarsl.com.au/wp-content/uploads/2021/02/Brightsign_376x210mm_StPatricksDay-scaled.jpg
END:VEVENT
BEGIN:VEVENT
DTSTART;TZID=Australia/Brisbane:20210212T180000
DTEND;TZID=Australia/Brisbane:20210212T220000
DTSTAMP:20210227T170228
CREATED:20210204T022652Z
LAST-MODIFIED:20210204T022652Z
UID:12235-1613152800-1613167200@www.caloundrarsl.com.au
SUMMARY:Boxing - All Stars Fight Night- Rugby League Rivals
DESCRIPTION:Boxing\nAll-Stars Fight Night- Rugby League Rivals.  \nFriday 12 February from 6 pm\, Live as the action happens on the BIG Screens in our function room. \nSome of Australia’s most prolific Rugby League stars including Sam Thaiday and Josh Papalii square up in 2021’s biggest celebrity fight night. \nMake a night of it and enjoy all we have to offer\, come for dinner and a few drinks\, win a meat tray\, or maybe the Members Draw. \nCosmic Cave will be open for the evening so bring the kids\, drop them off in our fully supervised kid’s club\, and enjoy our hospitality. \nNote: Kids will not be able to enter the function room as it contains gaming machines. At the completion of raffles\, the fight will be also shown in the Main Stage area in which kids are more than welcome.  \n 
URL:https://www.caloundrarsl.com.au/event/boxing-all-stars-fight-night-rugby-league-rivals/
CATEGORIES:Dining,Members Draw,UFC
ATTACH;FMTTYPE=image/png:https://www.caloundrarsl.com.au/wp-content/uploads/2021/02/ASB_MainEvent_16x9_resized.png
END:VEVENT
BEGIN:VEVENT
DTSTART;TZID=Australia/Brisbane:20210214T130000
DTEND;TZID=Australia/Brisbane:20210214T160000
DTSTAMP:20210227T170228
CREATED:20210203T042358Z
LAST-MODIFIED:20210203T042358Z
UID:12228-1613307600-1613318400@www.caloundrarsl.com.au
SUMMARY:UFC 285 Usman v Burns
DESCRIPTION:UFC 285 \nUsman v Burns \nWelterweight Title \n  \nUFC 285 kicks off at 1pm on Sunday 14th of February. \n  \nGrab a group of besties\, enjoy some craft beer\, a good feed\, and good times. \n  \nIf you would like to book our courtesy bus please call reception on 54385800. \n  \nCosmic Cave will be open for the duration of the fight so let us take care of the little ones whilst you enjoy all of the action.
URL:https://www.caloundrarsl.com.au/event/ufc-285-usman-v-burns/
CATEGORIES:Dining,Pokies,UFC
ATTACH;FMTTYPE=image/png:https://www.caloundrarsl.com.au/wp-content/uploads/2021/02/UFC258_16x9.png
END:VEVENT
BEGIN:VEVENT
DTSTART;TZID=Australia/Brisbane:20210208T093000
DTEND;TZID=Australia/Brisbane:20210208T160000
DTSTAMP:20210227T170228
CREATED:20210202T015031Z
LAST-MODIFIED:20210204T005838Z
UID:12223-1612776600-1612800000@www.caloundrarsl.com.au
SUMMARY:SUPER BOWL LV
DESCRIPTION:AMERICAN FOOTBALL NFL – SUPERBOWL \nTampa Bay Buccaneers Vs Kansas City Chiefs \nHut! Hut! Hut! It’s time for the  Super Bowl LV. Don’t miss a minute of the action as it happens live on our massive screen. \nLIVE. LARGE. LOUD. \nThe game starts at 10:30 am on Monday\, 8 February 2021\, our doors will be open and coverage starts at 9.30 am. \nCome for lunch and enjoy our American Beef and Bacon Burger served with chips and a schooner of Great Northern Super Crisp all for just $17. \n  \n 
URL:https://www.caloundrarsl.com.au/event/super-bowl-lv/
CATEGORIES:Dining,UFC
ATTACH;FMTTYPE=image/jpeg:https://www.caloundrarsl.com.au/wp-content/uploads/2021/02/superbowl-brightsign-1-scaled.jpg
END:VEVENT
BEGIN:VEVENT
DTSTART;TZID=Australia/Brisbane:20210203T183000
DTEND;TZID=Australia/Brisbane:20210203T223000
DTSTAMP:20210227T170228
CREATED:20210201T003132Z
LAST-MODIFIED:20210201T011130Z
UID:12196-1612377000-1612391400@www.caloundrarsl.com.au
SUMMARY:Amazon Blue
DESCRIPTION:Amazon Blue \nAre a fresh new and very experienced musical group\, having four successful asian contracts under their belts which allowed their music to reach an international audience. \nAfter the completion of the first six-month contract at the Tokyo Hilton Japan\, Amazon Blue  \nwere invited for another 6 months in tokyo\, 6 months in nagoya\, japan and back to tokyo.  \n  \nThey have also completed ten successful contracts with Voyages Resorts eg Brampton Island Resort\, Heron Island Resort and Spa. Amazon Blue  were also contracted to perform on Daydream Island Resort for Christmas 2004\, New year 2004\, Valentines day 2005 and Australia Day 2005. They are also regular performers at Mooloolaba Surf Club on the sunshine coast among many others venues there and Brisbane. They have just completed a contract  down in Tasmania at the Launceston Country Club Casino and are in the process of choosing more exotic locations around the world to perform.  \n  \nThe founders and core of the group are Fran Kelly (vocals\,percussion\, sound engineering) and Gus Mckinstray (sax\, keyboards).They also have the capacity to add the talents of some of the Sunshine Coast and Brisbanes best musicians to their line up when a larger band is required ( eg superb guitarists\, international percussionists\, and many other highly professional and talented artists). Collectively their experience in the music industry in both brisbane and melbourne spans 20 years. They have performed with some of the most distinguished entertainers and musicians over the years including being asked to  perform for and with Diana King and her band in tokyo 2003. (“ Say a Little Prayer” fame) .Amazon blue performs as a duo\, trio \, four piece and on to a six-piece band when lucky enough to need a larger group for conferences and functions. \nNow based back on the sunshine coast\, they are creating quite a stir with their fresh repertoire of a  contemporary jazz\, groove based  style. It seems there is a large number of people over 25 that want a change in the music they listen to and they are loving the ambience  surrounding amazon blue. Imagine sitting back on a sunny afternoon\, overlooking the water\, enjoying a fine wine and listening to the smooth sounds of Amazon blue. \nThis is due to their choice of music\, innovative ideas\, great reputation and most of all the ability to create a harmonious and relaxed atmosphere with the customers and staff alike. \nTheir concept is to reproduce some of the forgotten music of the 70s and 80s including artists such as Steely Dan\, Patti Austin\, Michael Franks\, Al Jarreau\, Grover Washington Chaka Khan and Renae Geyer to appeal to guests who are true music lovers with a finer taste. Sprinkle this with smooth jazz from the 40s and 50s for the older and more refined guests (to reminise and stroll down memory lane). Then add contemporary groove to the equation eg(Maroon 5\, Jack Johnson\, Maxwell \,Ben Harper and Missy Higgins etc  )for the younger generation who want to listen to live music and enjoy a fine wine with dinner\, then you have the recipe for a very sophisticated evening of music covering and catering to all ages and musical tastes without just repeating  the standard repertoire  of music played  everywhere.  \nTaking the risk of being different has been an incredible adventure and has most definitely   paid off in in customer and  Management   Appreciation in a time where people are desperate for a change in music. \n 
URL:https://www.caloundrarsl.com.au/event/amazon-blue/
CATEGORIES:Dining,Live Music
ATTACH;FMTTYPE=image/jpeg:https://www.caloundrarsl.com.au/wp-content/uploads/2021/02/BrightSign_FreeEnt_Feb_AmazonBlue-scaled.jpg
END:VEVENT
BEGIN:VEVENT
DTSTART;TZID=Australia/Brisbane:20210214T180000
DTEND;TZID=Australia/Brisbane:20210214T200000
DTSTAMP:20210227T170228
CREATED:20210122T032601Z
LAST-MODIFIED:20210211T013914Z
UID:12139-1613325600-1613332800@www.caloundrarsl.com.au
SUMMARY:Valentines Day Seafood Feast
DESCRIPTION:Fresh Seafood Platter For Two \nJoin us for a tower of Queensland Tiger Prawns \, Pacific Oysters\, Moreton Bay Bug\, Diamond Clams\, Hervey Bay Scallops w/ Mango Salsa \nServed with Cocktail Sauce\, Mignonette and Lemon and matched with a bottle of white wine.
URL:https://www.caloundrarsl.com.au/event/valentines-day-seafood-feast/
CATEGORIES:Dining
ATTACH;FMTTYPE=image/jpeg:https://www.caloundrarsl.com.au/wp-content/uploads/2021/01/VALENTINES-DAY-BRIGHTSIGN-sold-out--scaled.jpg
END:VEVENT
BEGIN:VEVENT
DTSTART;TZID=Australia/Brisbane:20210129T183000
DTEND;TZID=Australia/Brisbane:20210129T193000
DTSTAMP:20210227T170228
CREATED:20210121T004419Z
LAST-MODIFIED:20210121T004419Z
UID:12137-1611945000-1611948600@www.caloundrarsl.com.au
SUMMARY:FRIDAY - MEGA RAFFLE 
DESCRIPTION:FRIDAY – MEGA RAFFLE\n$500 WORTH OF MEAT TRAYS + 2 BOTTLES OF SPIRITS. \nPurchase your tickets from 4 pm – 6.15 pm with draws from 6.30 pm.
URL:https://www.caloundrarsl.com.au/event/friday-mega-raffle-2/
CATEGORIES:Dining,Members Draw
ATTACH;FMTTYPE=image/jpeg:https://www.caloundrarsl.com.au/wp-content/uploads/2021/01/MEAT-TRAYS2-scaled.jpg
END:VEVENT
BEGIN:VEVENT
DTSTART;TZID=Australia/Brisbane:20210122T183000
DTEND;TZID=Australia/Brisbane:20210122T193000
DTSTAMP:20210227T170228
CREATED:20210121T003516Z
LAST-MODIFIED:20210121T003516Z
UID:12127-1611340200-1611343800@www.caloundrarsl.com.au
SUMMARY:FRIDAY - MEGA RAFFLE 
DESCRIPTION:FRIDAY – MEGA RAFFLE\n$500 WORTH OF MEAT TRAYS + 2 BOTTLES OF SPIRITS. \nPurchase your tickets from 4 pm – 6.15 pm with draws from 6.30 pm.
URL:https://www.caloundrarsl.com.au/event/friday-mega-raffle/
CATEGORIES:Dining,Members Draw
ATTACH;FMTTYPE=image/jpeg:https://www.caloundrarsl.com.au/wp-content/uploads/2021/01/MEAT-TRAYS2-scaled.jpg
END:VEVENT
BEGIN:VEVENT
DTSTART;TZID=Australia/Brisbane:20201215T163000
DTEND;TZID=Australia/Brisbane:20201215T173000
DTSTAMP:20210227T170228
CREATED:20201113T042507Z
LAST-MODIFIED:20201201T053841Z
UID:11840-1608049800-1608053400@www.caloundrarsl.com.au
SUMMARY:Nickleby The Magician With Special Guest Santa
DESCRIPTION:🎅🎄 Nickleby The Magician With Special Guest Santa 🎅🎄\n\nJoin Nickleby\, one of Australias most loved family magicians for one special magic show with special guest Santa Claus.\nNickleby will be performing all of his usual tricks with a few special ones up his sleeve.\n2020 has been a year we are all happy to leave behind\, let’s end it with some magic\, fun\, and laughs.\n\n🎅 When: Tuesday 15th of December 2020\n🤶 Time: 4.30 pm\n🎅 Where: Caloundra RSL Main Stage Area\n\nGet Your Free Tickets Now https://www.eventbrite.com/e/nickleby-the-magician-with-special-guest-santa-tickets-129962935639
URL:https://www.caloundrarsl.com.au/event/11840/
CATEGORIES:Dining,Kids,Live Music
ATTACH;FMTTYPE=image/jpeg:https://www.caloundrarsl.com.au/wp-content/uploads/2020/11/SOLD-OUT-1-scaled.jpg
END:VEVENT
BEGIN:VEVENT
DTSTART;TZID=Australia/Brisbane:20201103T093000
DTEND;TZID=Australia/Brisbane:20201103T160000
DTSTAMP:20210227T170228
CREATED:20201006T014209Z
LAST-MODIFIED:20201006T014209Z
UID:11667-1604395800-1604419200@www.caloundrarsl.com.au
SUMMARY:2020 Melbourne Cup Luncheon
DESCRIPTION:Join us this year for our 2020 Melbourne Cup Luncheon. Last year was a sell-out so book early this year to avoid disappointment. Price includes a drink on arrival and a delicious TWO Course lunch. Call the Club on (07) 54385800 or visit reception next time you are visiting.
URL:https://www.caloundrarsl.com.au/event/2020-melbourne-cup-luncheon-caloundra/
CATEGORIES:Dining
ATTACH;FMTTYPE=image/jpeg:https://www.caloundrarsl.com.au/wp-content/uploads/2020/10/Melbourne-Cup-2020-Brightsign-scaled.jpg
END:VEVENT
BEGIN:VEVENT
DTSTART;TZID=Australia/Brisbane:20200927T113000
DTEND;TZID=Australia/Brisbane:20200927T143000
DTSTAMP:20210227T170228
CREATED:20200911T020601Z
LAST-MODIFIED:20200911T020601Z
UID:11641-1601206200-1601217000@www.caloundrarsl.com.au
SUMMARY:Sunday Roast
DESCRIPTION:🍽️🔪🐖 Sunday Roast Is Back 🍽️🔪🐖\nJoin us every Sunday for lunch in Viva and enjoy a carved to order succulent roast pork with all of the trimmings. Available this Sunday from 11.30am – 2.30pm.\n$15.95 Members Price.
URL:https://www.caloundrarsl.com.au/event/sunday-roast-3/
CATEGORIES:Dining
ATTACH;FMTTYPE=image/png:https://www.caloundrarsl.com.au/wp-content/uploads/2020/08/roast-of-the-day.png
END:VEVENT
BEGIN:VEVENT
DTSTART;TZID=Australia/Brisbane:20200920T113000
DTEND;TZID=Australia/Brisbane:20200920T143000
DTSTAMP:20210227T170228
CREATED:20200911T020412Z
LAST-MODIFIED:20200911T020450Z
UID:11639-1600601400-1600612200@www.caloundrarsl.com.au
SUMMARY:Sunday Roast
DESCRIPTION:🍽️🔪🐖 Sunday Roast Is Back 🍽️🔪🐖\nJoin us every Sunday for lunch in Viva and enjoy a carved to order succulent roast pork with all of the trimmings. Available this Sunday from 11.30am – 2.30pm.\n$15.95 Members Price.
URL:https://www.caloundrarsl.com.au/event/sunday-roast-2/
CATEGORIES:Dining
ATTACH;FMTTYPE=image/png:https://www.caloundrarsl.com.au/wp-content/uploads/2020/08/roast-of-the-day.png
END:VEVENT
BEGIN:VEVENT
DTSTART;TZID=Australia/Brisbane:20200906T120000
DTEND;TZID=Australia/Brisbane:20200906T143000
DTSTAMP:20210227T170229
CREATED:20200831T044156Z
LAST-MODIFIED:20200831T044156Z
UID:11600-1599393600-1599402600@www.caloundrarsl.com.au
SUMMARY:Father's Day 2020
DESCRIPTION:Join us this Sunday for lunch or dinner and enjoy the crazy special that we have put together just for Dad’s.\nFor just $20 Dad can choose from:\n(1) Beef\, Bacon & Cheese Burger\nw/ Balsamic Onion Chutney\nOR\n(2) Smoky BBQ Pork Ribs\nw/ potato wedges and coleslaw\nPrice includes a refreshing pot of ❄️Great Northern Super Crisp❄️\n{ACT NOW} as the restaurant is filling up fast.
URL:https://www.caloundrarsl.com.au/event/fathers-day-2020/
CATEGORIES:Dining
ATTACH;FMTTYPE=image/jpeg:https://www.caloundrarsl.com.au/wp-content/uploads/2020/08/FathersDay-Brightsign-1-NEW_resized-1.jpg
END:VEVENT
BEGIN:VEVENT
DTSTART;TZID=Australia/Brisbane:20200913T113000
DTEND;TZID=Australia/Brisbane:20200913T143000
DTSTAMP:20210227T170229
CREATED:20200825T010827Z
LAST-MODIFIED:20200911T020450Z
UID:11557-1599996600-1600007400@www.caloundrarsl.com.au
SUMMARY:Sunday Roast
DESCRIPTION:🍽️🔪🐖 Sunday Roast Is Back 🍽️🔪🐖\nJoin us every Sunday for lunch in Viva and enjoy a carved to order succulent roast pork with all of the trimmings. Available this Sunday from 11.30am – 2.30pm.\n$15.95 Members Price.
URL:https://www.caloundrarsl.com.au/event/sunday-roast/
CATEGORIES:Dining
ATTACH;FMTTYPE=image/png:https://www.caloundrarsl.com.au/wp-content/uploads/2020/08/roast-of-the-day.png
END:VEVENT
END:VCALENDAR