BEGIN:VCALENDAR
VERSION:2.0
PRODID:-//Caloundra RSL - ECPv5.3.2.1//NONSGML v1.0//EN
CALSCALE:GREGORIAN
METHOD:PUBLISH
X-WR-CALNAME:Caloundra RSL
X-ORIGINAL-URL:https://www.caloundrarsl.com.au
X-WR-CALDESC:Events for Caloundra RSL
BEGIN:VTIMEZONE
TZID:Australia/Brisbane
BEGIN:STANDARD
TZOFFSETFROM:+1000
TZOFFSETTO:+1000
TZNAME:AEST
DTSTART:20200101T000000
END:STANDARD
END:VTIMEZONE
BEGIN:VEVENT
DTSTART;TZID=Australia/Brisbane:20210227T163000
DTEND;TZID=Australia/Brisbane:20210227T210000
DTSTAMP:20210227T170956
CREATED:20210218T225448Z
LAST-MODIFIED:20210218T225448Z
UID:12382-1614443400-1614459600@www.caloundrarsl.com.au
SUMMARY:{Boxing} Parker v Fa - Heavyweight Bout
DESCRIPTION:Boxing\nParker v Fa\nHeavyweight Bout\nSaturday 27 February\, 4:30 pm\nLIVE on MAIN EVENT st this venue. \nPool Tables Available and Live Music from 8 pm till 2 am. \nCosmic Cave will be open for the duration of this fight\, bring the family and enjoy our hospitality. \nJoseph Parker vs. Junior Fa is an upcoming heavyweight professional boxing match contested between former WBO champion Joseph Parker and WBO interim Oriental champion Junior Fa. The bout is scheduled to take place on 27 February 2021\, at the Spark Arena in Auckland\, New Zealand.  The event is co-promoted by David Higgins of Duco Events\, Eddie Hearn of Matchroom Boxing and Lou DiBella of DiBella Entertainment\, and is considered a history-making moment and New Zealand’s next “Fight of the Century”.
URL:https://www.caloundrarsl.com.au/event/boxing-parker-v-fa-heavyweight-bout/
CATEGORIES:Dining,Live Music,UFC
ATTACH;FMTTYPE=image/png:https://www.caloundrarsl.com.au/wp-content/uploads/2021/02/Parker_vs_Fa_16x9.png
END:VEVENT
BEGIN:VEVENT
DTSTART;TZID=Australia/Brisbane:20210212T180000
DTEND;TZID=Australia/Brisbane:20210212T220000
DTSTAMP:20210227T170956
CREATED:20210204T022652Z
LAST-MODIFIED:20210204T022652Z
UID:12235-1613152800-1613167200@www.caloundrarsl.com.au
SUMMARY:Boxing - All Stars Fight Night- Rugby League Rivals
DESCRIPTION:Boxing\nAll-Stars Fight Night- Rugby League Rivals.  \nFriday 12 February from 6 pm\, Live as the action happens on the BIG Screens in our function room. \nSome of Australia’s most prolific Rugby League stars including Sam Thaiday and Josh Papalii square up in 2021’s biggest celebrity fight night. \nMake a night of it and enjoy all we have to offer\, come for dinner and a few drinks\, win a meat tray\, or maybe the Members Draw. \nCosmic Cave will be open for the evening so bring the kids\, drop them off in our fully supervised kid’s club\, and enjoy our hospitality. \nNote: Kids will not be able to enter the function room as it contains gaming machines. At the completion of raffles\, the fight will be also shown in the Main Stage area in which kids are more than welcome.  \n 
URL:https://www.caloundrarsl.com.au/event/boxing-all-stars-fight-night-rugby-league-rivals/
CATEGORIES:Dining,Members Draw,UFC
ATTACH;FMTTYPE=image/png:https://www.caloundrarsl.com.au/wp-content/uploads/2021/02/ASB_MainEvent_16x9_resized.png
END:VEVENT
BEGIN:VEVENT
DTSTART;TZID=Australia/Brisbane:20210214T130000
DTEND;TZID=Australia/Brisbane:20210214T160000
DTSTAMP:20210227T170956
CREATED:20210203T042358Z
LAST-MODIFIED:20210203T042358Z
UID:12228-1613307600-1613318400@www.caloundrarsl.com.au
SUMMARY:UFC 285 Usman v Burns
DESCRIPTION:UFC 285 \nUsman v Burns \nWelterweight Title \n  \nUFC 285 kicks off at 1pm on Sunday 14th of February. \n  \nGrab a group of besties\, enjoy some craft beer\, a good feed\, and good times. \n  \nIf you would like to book our courtesy bus please call reception on 54385800. \n  \nCosmic Cave will be open for the duration of the fight so let us take care of the little ones whilst you enjoy all of the action.
URL:https://www.caloundrarsl.com.au/event/ufc-285-usman-v-burns/
CATEGORIES:Dining,Pokies,UFC
ATTACH;FMTTYPE=image/png:https://www.caloundrarsl.com.au/wp-content/uploads/2021/02/UFC258_16x9.png
END:VEVENT
BEGIN:VEVENT
DTSTART;TZID=Australia/Brisbane:20210208T093000
DTEND;TZID=Australia/Brisbane:20210208T160000
DTSTAMP:20210227T170956
CREATED:20210202T015031Z
LAST-MODIFIED:20210204T005838Z
UID:12223-1612776600-1612800000@www.caloundrarsl.com.au
SUMMARY:SUPER BOWL LV
DESCRIPTION:AMERICAN FOOTBALL NFL – SUPERBOWL \nTampa Bay Buccaneers Vs Kansas City Chiefs \nHut! Hut! Hut! It’s time for the  Super Bowl LV. Don’t miss a minute of the action as it happens live on our massive screen. \nLIVE. LARGE. LOUD. \nThe game starts at 10:30 am on Monday\, 8 February 2021\, our doors will be open and coverage starts at 9.30 am. \nCome for lunch and enjoy our American Beef and Bacon Burger served with chips and a schooner of Great Northern Super Crisp all for just $17. \n  \n 
URL:https://www.caloundrarsl.com.au/event/super-bowl-lv/
CATEGORIES:Dining,UFC
ATTACH;FMTTYPE=image/jpeg:https://www.caloundrarsl.com.au/wp-content/uploads/2021/02/superbowl-brightsign-1-scaled.jpg
END:VEVENT
BEGIN:VEVENT
DTSTART;TZID=Australia/Brisbane:20210124T130000
DTEND;TZID=Australia/Brisbane:20210124T160000
DTSTAMP:20210227T170956
CREATED:20210105T031800Z
LAST-MODIFIED:20210105T031800Z
UID:12049-1611493200-1611504000@www.caloundrarsl.com.au
SUMMARY:UFC 257 Lightweight bout Poirier v McGregor 2
DESCRIPTION:UFC 257\nLightweight bout\nPoirier v McGregor 2\nSunday 24 January – 1 pm\nLIVE on MAIN EVENT as the action unfolds.\n#Cosmic Cave will be open for the duration of the fight\, bring the kids along and enjoy the afternoon.
URL:https://www.caloundrarsl.com.au/event/ufc-257-lightweight-bout-poirier-v-mcgregor-2-caloundra/
CATEGORIES:UFC
ATTACH;FMTTYPE=image/png:https://www.caloundrarsl.com.au/wp-content/uploads/2021/01/UFC_257_16x9.png
END:VEVENT
BEGIN:VEVENT
DTSTART;TZID=Australia/Brisbane:20210212T200000
DTEND;TZID=Australia/Brisbane:20210212T230000
DTSTAMP:20210227T170956
CREATED:20201204T010812Z
LAST-MODIFIED:20210210T043702Z
UID:11959-1613160000-1613170800@www.caloundrarsl.com.au
SUMMARY:Jarrod Murphy
DESCRIPTION:Jarrod Murphy – \nJarrod is a singer songwriter multi-instrumentalist. He has an expressive and note perfect voice\, with a set of over one hundred covers and growing. \nHe has more than 20 years experience recording and touring\, having played thousands of shows throughout Australia and other parts of the world. \nHe has written hundreds of songs and released albums as chief songwriter with the bands SMLXL\, Major and Pelican Jed\, and has contributed as lead guitarist and backing vocalist with The Cops. \nThe Cops had songs featured in Triple J Hottest 100s in 2006 with ‘Call Me Anytime’ coming in at 33\, and 2007 with ‘The Message’ at 88. Played all the major festivals and toured extensively selling out venues across Australia. \nMajor received Triple J high rotation of a few songs through out the early 2000’s and both album releases received high acclaim within the power-pop world. \nLinks to these bands and examples of his work can be found on the MUSIC page\, or on Jarrod’s youtube channel . \nJarrod is now performing shows featuring three long form sets of covers ranging from Crowded House to Billy Joel\, The Beatles to Bowie\, and more current artist like Ed Sherran to Jason Mraz. \nHis voice is melodic with personality and confidence\, sounding like Neil Finn meets Paul McCartney.
URL:https://www.caloundrarsl.com.au/event/jarrod-murphy/
CATEGORIES:Live Music,UFC
ATTACH;FMTTYPE=image/jpeg:https://www.caloundrarsl.com.au/wp-content/uploads/2020/12/BrightSign_FreeEnt_Feb_JarrodMurphy-scaled.jpg
END:VEVENT
BEGIN:VEVENT
DTSTART;TZID=Australia/Brisbane:20201216T180000
DTEND;TZID=Australia/Brisbane:20201216T223000
DTSTAMP:20210227T170956
CREATED:20201201T053450Z
LAST-MODIFIED:20201201T053548Z
UID:11907-1608141600-1608157800@www.caloundrarsl.com.au
SUMMARY:Tszyu v Morgan + Gallen v Hunt
DESCRIPTION:Boxing\nSydney Super Fight\nTszyu v Morgan + Gallen v Hunt \nWednesday 16 December– 6 pm \nLIVE and Free as all of the action unfolds. \nBONUS: Cosmic Cave will be open for the duration of the Fight.
URL:https://www.caloundrarsl.com.au/event/tszyu-v-morgan-gallen-v-hunt/
CATEGORIES:UFC
ATTACH;FMTTYPE=image/png:https://www.caloundrarsl.com.au/wp-content/uploads/2020/12/Tszyu_v_Morgan_16x9.png
END:VEVENT
BEGIN:VEVENT
DTSTART;TZID=Australia/Brisbane:20201129T120000
DTEND;TZID=Australia/Brisbane:20201129T150000
DTSTAMP:20210227T170956
CREATED:20201115T233653Z
LAST-MODIFIED:20201115T233747Z
UID:11847-1606651200-1606662000@www.caloundrarsl.com.au
SUMMARY:BOXING -  Tyson v Jones Jr
DESCRIPTION:🥊🥊 Boxing 🥊🥊\nTyson v Jones Jr \nHeavyweight Bout\nSunday 29 November– 12pm\nLIVE on MAIN EVENT\nFrom the Staples Centre\, Los Angleles
URL:https://www.caloundrarsl.com.au/event/boxing-tyson-v-jones-jr/
CATEGORIES:UFC
ATTACH;FMTTYPE=image/png:https://www.caloundrarsl.com.au/wp-content/uploads/2020/11/Tyson_vs_Jones_16x9.png
END:VEVENT
BEGIN:VEVENT
DTSTART;TZID=Australia/Brisbane:20201122T130000
DTEND;TZID=Australia/Brisbane:20201122T150000
DTSTAMP:20210227T170956
CREATED:20201115T233410Z
LAST-MODIFIED:20201115T233410Z
UID:11844-1606050000-1606057200@www.caloundrarsl.com.au
SUMMARY:UFC 255 - Figueiredo v Perez + Shevchenko v Maia
DESCRIPTION:🥊🥊UFC 255🥊🥊 \nFigueiredo v Perez + Shevchenko v Maia \n2x World Title Events \n👊 This Sunday 22 November – From 1pm 👊 \nLIVE from the UFC APEX\, Las Vegas
URL:https://www.caloundrarsl.com.au/event/ufc-255-figueiredo-v-perez-shevchenko-v-maia/
CATEGORIES:UFC
ATTACH;FMTTYPE=image/png:https://www.caloundrarsl.com.au/wp-content/uploads/2020/11/UFC255_16x9.png
END:VEVENT
END:VCALENDAR